BEGIN:VCALENDAR
VERSION:2.0
PRODID:-//Nick Halley - ECPv5.16.2.1//NONSGML v1.0//EN
CALSCALE:GREGORIAN
METHOD:PUBLISH
X-WR-CALNAME:Nick Halley
X-ORIGINAL-URL:https://www.nickhalley.com
X-WR-CALDESC:Events for Nick Halley
BEGIN:VTIMEZONE
TZID:America/Halifax
BEGIN:DAYLIGHT
TZOFFSETFROM:-0400
TZOFFSETTO:-0300
TZNAME:ADT
DTSTART:20250309T060000
END:DAYLIGHT
BEGIN:STANDARD
TZOFFSETFROM:-0300
TZOFFSETTO:-0400
TZNAME:AST
DTSTART:20251102T050000
END:STANDARD
END:VTIMEZONE
BEGIN:VEVENT
DTSTART;TZID=America/Halifax:20251231T190000
DTEND;TZID=America/Halifax:20251231T190000
DTSTAMP:20260423T011740
CREATED:20251229T161155Z
LAST-MODIFIED:20251229T163240Z
UID:1880-1767207600-1767207600@www.nickhalley.com
SUMMARY:New Year’s Celebration at The Riverport Inn
DESCRIPTION:Celebrate New Year’s with Nick Halley\, Paul Halley\, and friends at the Very Halley New Year Celebration at the Riverport Inn! To reserve your spot\, contact Leanne at leanne@theriverportinn.com or call 902-523-0423. \nShow Only – $50   Dinner & Show – $100 \n 
URL:https://www.nickhalley.com/event/new-years-celebration-at-the-riverport-inn/
LOCATION:The Riverport Inn\, 53 Lower Lahave Road\, Riverport\, Nova Scotia\, B0J2X0
END:VEVENT
END:VCALENDAR