BEGIN:VCALENDAR
VERSION:2.0
PRODID:-//Nick Halley - ECPv5.16.2.1//NONSGML v1.0//EN
CALSCALE:GREGORIAN
METHOD:PUBLISH
X-WR-CALNAME:Nick Halley
X-ORIGINAL-URL:http://www.nickhalley.com
X-WR-CALDESC:Events for Nick Halley
BEGIN:VTIMEZONE
TZID:UTC
BEGIN:STANDARD
TZOFFSETFROM:+0000
TZOFFSETTO:+0000
TZNAME:UTC
DTSTART:20150101T000000
END:STANDARD
END:VTIMEZONE
BEGIN:VEVENT
DTSTART;TZID=UTC:20151218T193000
DTEND;TZID=UTC:20151218T210000
DTSTAMP:20260425T124717
CREATED:20151106T193114Z
LAST-MODIFIED:20151106T193114Z
UID:373-1450467000-1450472400@www.nickhalley.com
SUMMARY:with Suzie LeBlanc at the Chester Playhouse
DESCRIPTION:
URL:http://www.nickhalley.com/event/with-suzie-leblanc-at-the-chester-playhouse/
LOCATION:Chester Playhouse\, 22 Pleasant Street\, Chester\, Nova Scotia\, B0J1J0\, Canada
END:VEVENT
END:VCALENDAR