BEGIN:VCALENDAR
VERSION:2.0
PRODID:-//Nick Halley - ECPv5.16.2.1//NONSGML v1.0//EN
CALSCALE:GREGORIAN
METHOD:PUBLISH
X-WR-CALNAME:Nick Halley
X-ORIGINAL-URL:http://www.nickhalley.com
X-WR-CALDESC:Events for Nick Halley
BEGIN:VTIMEZONE
TZID:UTC
BEGIN:STANDARD
TZOFFSETFROM:+0000
TZOFFSETTO:+0000
TZNAME:UTC
DTSTART:20180101T000000
END:STANDARD
END:VTIMEZONE
BEGIN:VEVENT
DTSTART;TZID=UTC:20180316T190000
DTEND;TZID=UTC:20180316T210000
DTSTAMP:20260420T090839
CREATED:20180304T041515Z
LAST-MODIFIED:20180304T041515Z
UID:511-1521226800-1521234000@www.nickhalley.com
SUMMARY:With Sandeep Das at LAMP
DESCRIPTION:Tabla superstar Sandeep Das with Rajib Karkmaker\, sitar; Yolanda Bruno\, violin; Roberto Occhipinti\, bass; Didem Basar\, qanan; Nazih Borish\, oud; Nick Halley\, percussion; and Dinuk Wijeratne\, piano
URL:http://www.nickhalley.com/event/with-sandeep-das-at-lamp/
LOCATION:LAMP\, 97 Kaulbach St\, Lunenburg\, NS\, Canada
END:VEVENT
END:VCALENDAR