BEGIN:VCALENDAR
VERSION:2.0
PRODID:-//Nick Halley - ECPv5.16.2.1//NONSGML v1.0//EN
CALSCALE:GREGORIAN
METHOD:PUBLISH
X-WR-CALNAME:Nick Halley
X-ORIGINAL-URL:http://www.nickhalley.com
X-WR-CALDESC:Events for Nick Halley
BEGIN:VTIMEZONE
TZID:UTC
BEGIN:STANDARD
TZOFFSETFROM:+0000
TZOFFSETTO:+0000
TZNAME:UTC
DTSTART:20180101T000000
END:STANDARD
END:VTIMEZONE
BEGIN:VEVENT
DTSTART;TZID=UTC:20180617T123000
DTEND;TZID=UTC:20180617T140000
DTSTAMP:20260419T005912
CREATED:20180611T232652Z
LAST-MODIFIED:20180611T232652Z
UID:532-1529238600-1529244000@www.nickhalley.com
SUMMARY:With Bruce Fifer and Taft Collegium
DESCRIPTION:At the American Cathedral\, Paris\, France
URL:http://www.nickhalley.com/event/with-bruce-fifer-and-taft-collegium-2/
END:VEVENT
END:VCALENDAR