BEGIN:VCALENDAR
VERSION:2.0
PRODID:-//Nick Halley - ECPv5.16.2.1//NONSGML v1.0//EN
CALSCALE:GREGORIAN
METHOD:PUBLISH
X-WR-CALNAME:Nick Halley
X-ORIGINAL-URL:http://www.nickhalley.com
X-WR-CALDESC:Events for Nick Halley
BEGIN:VTIMEZONE
TZID:UTC
BEGIN:STANDARD
TZOFFSETFROM:+0000
TZOFFSETTO:+0000
TZNAME:UTC
DTSTART:20170101T000000
END:STANDARD
END:VTIMEZONE
BEGIN:VEVENT
DTSTART;TZID=UTC:20171023T080000
DTEND;TZID=UTC:20171023T170000
DTSTAMP:20260424T113512
CREATED:20171023T160046Z
LAST-MODIFIED:20171023T160046Z
UID:471-1508745600-1508778000@www.nickhalley.com
SUMMARY:Weekly Services in the King's Chapel
DESCRIPTION:Check out the Chapel’s website for Tuesday\, Wednesday\, Thursday service times with the University of King’s College Chapel Choir.
URL:http://www.nickhalley.com/event/weekly-services-in-the-kings-chapel/
LOCATION:King’s College Chapel\, Halifax\, NS Canada
END:VEVENT
END:VCALENDAR