BEGIN:VCALENDAR
VERSION:2.0
PRODID:-//Nick Halley - ECPv5.16.2.1//NONSGML v1.0//EN
CALSCALE:GREGORIAN
METHOD:PUBLISH
X-WR-CALNAME:Nick Halley
X-ORIGINAL-URL:http://www.nickhalley.com
X-WR-CALDESC:Events for Nick Halley
BEGIN:VTIMEZONE
TZID:UTC
BEGIN:STANDARD
TZOFFSETFROM:+0000
TZOFFSETTO:+0000
TZNAME:UTC
DTSTART:20180101T000000
END:STANDARD
END:VTIMEZONE
BEGIN:VEVENT
DTSTART;TZID=UTC:20180307T170000
DTEND;TZID=UTC:20180408T190000
DTSTAMP:20260423T045701
CREATED:20180304T043616Z
LAST-MODIFIED:20180304T043616Z
UID:518-1520442000-1523214000@www.nickhalley.com
SUMMARY:Weekly services in King's Chapel
DESCRIPTION:The Chapel Choir sings Choral Evensong every Wednesday and Solemn Eucharist every Thursday in the Chapel. Here is a PDF of the Music Card: \nhttps://ukings.ca/wp-content/uploads/2018/02/ChapelMusicCard-Epiphany-Lent-2018.pdf
URL:http://www.nickhalley.com/event/weekly-services-in-kings-chapel/
LOCATION:King’s College Chapel\, Halifax\, NS Canada
END:VEVENT
END:VCALENDAR