BEGIN:VCALENDAR
VERSION:2.0
PRODID:-//Nick Halley - ECPv5.16.2.1//NONSGML v1.0//EN
CALSCALE:GREGORIAN
METHOD:PUBLISH
X-WR-CALNAME:Nick Halley
X-ORIGINAL-URL:http://www.nickhalley.com
X-WR-CALDESC:Events for Nick Halley
BEGIN:VTIMEZONE
TZID:America/Halifax
BEGIN:DAYLIGHT
TZOFFSETFROM:-0400
TZOFFSETTO:-0300
TZNAME:ADT
DTSTART:20150308T060000
END:DAYLIGHT
BEGIN:STANDARD
TZOFFSETFROM:-0300
TZOFFSETTO:-0400
TZNAME:AST
DTSTART:20151101T050000
END:STANDARD
END:VTIMEZONE
BEGIN:VEVENT
DTSTART;VALUE=DATE:20150725
DTEND;VALUE=DATE:20150726
DTSTAMP:20260425T224908
CREATED:20150814T173105Z
LAST-MODIFIED:20150814T173105Z
UID:359-1437782400-1437868799@www.nickhalley.com
SUMMARY:w/ James Taylor\, Newport Folk Festival
DESCRIPTION:James Taylor performs a surprise show during the 2015 Newport Folk Festival at Fort Adams State Park on July 25\, 2015 in Newport\, Rhode Island.
URL:http://www.nickhalley.com/event/w-james-taylor-newport-folk-festival/
LOCATION:Fort Adams State Park\, Newport\, RI\, United States
END:VEVENT
END:VCALENDAR