BEGIN:VCALENDAR
VERSION:2.0
PRODID:-//Nick Halley - ECPv5.16.2.1//NONSGML v1.0//EN
CALSCALE:GREGORIAN
METHOD:PUBLISH
X-WR-CALNAME:Nick Halley
X-ORIGINAL-URL:http://www.nickhalley.com
X-WR-CALDESC:Events for Nick Halley
BEGIN:VTIMEZONE
TZID:UTC
BEGIN:STANDARD
TZOFFSETFROM:+0000
TZOFFSETTO:+0000
TZNAME:UTC
DTSTART:20170101T000000
END:STANDARD
END:VTIMEZONE
BEGIN:VEVENT
DTSTART;TZID=UTC:20171219T190000
DTEND;TZID=UTC:20171219T203000
DTSTAMP:20260420T095232
CREATED:20171023T165622Z
LAST-MODIFIED:20171023T165622Z
UID:497-1513710000-1513715400@www.nickhalley.com
SUMMARY:To Bethlehem with King's - Windsor
DESCRIPTION:The men and boys of Capella Regalis will be accompanied by Paul Halley and Curtis Dietz.
URL:http://www.nickhalley.com/event/to-bethlehem-with-kings-windsor/
LOCATION:Christ Church\, Windsor\, 531 King Street\, Windsor\, Nova Scotia\, Canada
END:VEVENT
END:VCALENDAR