BEGIN:VCALENDAR
VERSION:2.0
PRODID:-//Nick Halley - ECPv5.16.2.1//NONSGML v1.0//EN
CALSCALE:GREGORIAN
METHOD:PUBLISH
X-WR-CALNAME:Nick Halley
X-ORIGINAL-URL:http://www.nickhalley.com
X-WR-CALDESC:Events for Nick Halley
BEGIN:VTIMEZONE
TZID:UTC
BEGIN:STANDARD
TZOFFSETFROM:+0000
TZOFFSETTO:+0000
TZNAME:UTC
DTSTART:20170101T000000
END:STANDARD
END:VTIMEZONE
BEGIN:VEVENT
DTSTART;TZID=UTC:20171220T190000
DTEND;TZID=UTC:20171220T203000
DTSTAMP:20260420T100331
CREATED:20171023T165752Z
LAST-MODIFIED:20171023T165752Z
UID:498-1513796400-1513801800@www.nickhalley.com
SUMMARY:To Bethlehem with Kings - Lunenburg
DESCRIPTION:The men and boys of Capella Regalis will be accompanied by Paul Halley and Curtis Dietz.
URL:http://www.nickhalley.com/event/to-bethlehem-with-kings-lunenburg-2/
LOCATION:St. John’s Church\, Lunenburg\, NS Canada
END:VEVENT
END:VCALENDAR