BEGIN:VCALENDAR
VERSION:2.0
PRODID:-//Nick Halley - ECPv5.16.2.1//NONSGML v1.0//EN
CALSCALE:GREGORIAN
METHOD:PUBLISH
X-WR-CALNAME:Nick Halley
X-ORIGINAL-URL:http://www.nickhalley.com
X-WR-CALDESC:Events for Nick Halley
BEGIN:VTIMEZONE
TZID:UTC
BEGIN:STANDARD
TZOFFSETFROM:+0000
TZOFFSETTO:+0000
TZNAME:UTC
DTSTART:20150101T000000
END:STANDARD
END:VTIMEZONE
BEGIN:VEVENT
DTSTART;TZID=UTC:20151222T190000
DTEND;TZID=UTC:20151222T203000
DTSTAMP:20260424T073548
CREATED:20151106T195927Z
LAST-MODIFIED:20151106T195927Z
UID:384-1450810800-1450816200@www.nickhalley.com
SUMMARY:To Bethlehem with Kings\, Halifax
DESCRIPTION:
URL:http://www.nickhalley.com/event/to-bethlehem-with-kings-halifax/
LOCATION:All Saints Cathedral\, Halifax\, NS Canada\, 1330 Chathedral Lane\, Halifax\, Nova Scotia\, Canada
END:VEVENT
END:VCALENDAR