BEGIN:VCALENDAR
VERSION:2.0
PRODID:-//Nick Halley - ECPv5.16.2.1//NONSGML v1.0//EN
CALSCALE:GREGORIAN
METHOD:PUBLISH
X-WR-CALNAME:Nick Halley
X-ORIGINAL-URL:http://www.nickhalley.com
X-WR-CALDESC:Events for Nick Halley
BEGIN:VTIMEZONE
TZID:America/Halifax
BEGIN:DAYLIGHT
TZOFFSETFROM:-0400
TZOFFSETTO:-0300
TZNAME:ADT
DTSTART:20250309T060000
END:DAYLIGHT
BEGIN:STANDARD
TZOFFSETFROM:-0300
TZOFFSETTO:-0400
TZNAME:AST
DTSTART:20251102T050000
END:STANDARD
END:VTIMEZONE
BEGIN:VEVENT
DTSTART;TZID=America/Halifax:20250913T150000
DTEND;TZID=America/Halifax:20250913T150000
DTSTAMP:20260419T113608
CREATED:20250909T213926Z
LAST-MODIFIED:20250909T214006Z
UID:1821-1757775600-1757775600@www.nickhalley.com
SUMMARY:THE DINUK WIJERATNE TRIO at Prince Edward County Music Festival
DESCRIPTION:The Dinuk Wijeratne Trio featuring Dinuk Wijeratne\, Nick Halley\, and Tom Easley\, will be performing at the Prince Edward County Music Festival in Picton\, Ontario on Saturday\, Sept 9\, 2025. \nProgram to be announced from the stage. \nFor more info and tickets\, visit: https://pecmusicfestival.com/2025_wijeratne/
URL:http://www.nickhalley.com/event/the-dinuk-wijeratne-trio-at-prince-edward-county-music-festival/
LOCATION:St.Mary Magdalene Anglican Church\, Picton\, Ontario\, Canada
END:VEVENT
END:VCALENDAR