BEGIN:VCALENDAR
VERSION:2.0
PRODID:-//Nick Halley - ECPv5.16.2.1//NONSGML v1.0//EN
CALSCALE:GREGORIAN
METHOD:PUBLISH
X-WR-CALNAME:Nick Halley
X-ORIGINAL-URL:http://www.nickhalley.com
X-WR-CALDESC:Events for Nick Halley
BEGIN:VTIMEZONE
TZID:UTC
BEGIN:STANDARD
TZOFFSETFROM:+0000
TZOFFSETTO:+0000
TZNAME:UTC
DTSTART:20170101T000000
END:STANDARD
END:VTIMEZONE
BEGIN:VEVENT
DTSTART;TZID=UTC:20171126T160000
DTEND;TZID=UTC:20171126T170000
DTSTAMP:20260421T003333
CREATED:20171023T164343Z
LAST-MODIFIED:20171023T164343Z
UID:490-1511712000-1511715600@www.nickhalley.com
SUMMARY:Sundays at Four
DESCRIPTION:Check out the Sundays at Four series in All Saints Cathedral: \nhttp://www.cathedralchurchofallsaints.com/pdfs/Sundays%20at%20Four%20-%202017%20Oct%20-%20Dec%20-%20Brochure%20(002).pdf
URL:http://www.nickhalley.com/event/sundays-at-four/
LOCATION:All Saints Cathedral\, Halifax\, NS Canada\, 1330 Chathedral Lane\, Halifax\, Nova Scotia\, Canada
END:VEVENT
END:VCALENDAR