BEGIN:VCALENDAR
VERSION:2.0
PRODID:-//Nick Halley - ECPv5.16.2.1//NONSGML v1.0//EN
CALSCALE:GREGORIAN
METHOD:PUBLISH
X-WR-CALNAME:Nick Halley
X-ORIGINAL-URL:http://www.nickhalley.com
X-WR-CALDESC:Events for Nick Halley
BEGIN:VTIMEZONE
TZID:UTC
BEGIN:STANDARD
TZOFFSETFROM:+0000
TZOFFSETTO:+0000
TZNAME:UTC
DTSTART:20170101T000000
END:STANDARD
END:VTIMEZONE
BEGIN:VEVENT
DTSTART;TZID=UTC:20170918T190000
DTEND;TZID=UTC:20170918T200000
DTSTAMP:20260424T125443
CREATED:20170912T185450Z
LAST-MODIFIED:20170912T185450Z
UID:464-1505761200-1505764800@www.nickhalley.com
SUMMARY:Prismatic Festival w/ Dinuk Wijeratne
DESCRIPTION:
URL:http://www.nickhalley.com/event/prismatic-festival-w-dinuk-wijeratne/
LOCATION:Halifax Central Library\, Halifax\, NS\, Canada
END:VEVENT
END:VCALENDAR