BEGIN:VCALENDAR
VERSION:2.0
PRODID:-//Nick Halley - ECPv5.16.2.1//NONSGML v1.0//EN
CALSCALE:GREGORIAN
METHOD:PUBLISH
X-WR-CALNAME:Nick Halley
X-ORIGINAL-URL:http://www.nickhalley.com
X-WR-CALDESC:Events for Nick Halley
BEGIN:VTIMEZONE
TZID:UTC
BEGIN:STANDARD
TZOFFSETFROM:+0000
TZOFFSETTO:+0000
TZNAME:UTC
DTSTART:20170101T000000
END:STANDARD
END:VTIMEZONE
BEGIN:VEVENT
DTSTART;TZID=UTC:20171119T160000
DTEND;TZID=UTC:20171119T180000
DTSTAMP:20260423T234216
CREATED:20171023T163422Z
LAST-MODIFIED:20171023T163422Z
UID:483-1511107200-1511114400@www.nickhalley.com
SUMMARY:Music for St Cecilia
DESCRIPTION:The King’s Chorus is back with it’s annually acclaimed Music for Saint Cecilia concert. This one features Handel\, Haydn\, and Halley\, with the music of J.S. Bach also making an appearance. \nThe Chorus will be accompanied by the fabulous strings\, brass\, winds\, organ\, piano\, and percussion of Ensemble Regale and the concert will feature six soloists\, including two boy sopranos from Capella Regalis.
URL:http://www.nickhalley.com/event/music-for-st-cecilia/
LOCATION:All Saints Cathedral\, Halifax\, NS Canada\, 1330 Chathedral Lane\, Halifax\, Nova Scotia\, Canada
END:VEVENT
END:VCALENDAR