BEGIN:VCALENDAR
VERSION:2.0
PRODID:-//Nick Halley - ECPv5.16.2.1//NONSGML v1.0//EN
CALSCALE:GREGORIAN
METHOD:PUBLISH
X-WR-CALNAME:Nick Halley
X-ORIGINAL-URL:http://www.nickhalley.com
X-WR-CALDESC:Events for Nick Halley
BEGIN:VTIMEZONE
TZID:UTC
BEGIN:STANDARD
TZOFFSETFROM:+0000
TZOFFSETTO:+0000
TZNAME:UTC
DTSTART:20160101T000000
END:STANDARD
END:VTIMEZONE
BEGIN:VEVENT
DTSTART;TZID=UTC:20160619T170000
DTEND;TZID=UTC:20160619T190000
DTSTAMP:20260424T201523
CREATED:20160527T172833Z
LAST-MODIFIED:20160527T172833Z
UID:445-1466355600-1466362800@www.nickhalley.com
SUMMARY:Music for a Great Space - All Saints Cathedral Choir\, Halifax
DESCRIPTION:
URL:http://www.nickhalley.com/event/music-for-a-great-space-all-saints-cathedral-choir-halifax/
LOCATION:All Saints Cathedral\, Halifax\, NS Canada\, 1330 Chathedral Lane\, Halifax\, Nova Scotia\, Canada
END:VEVENT
END:VCALENDAR