BEGIN:VCALENDAR
VERSION:2.0
PRODID:-//Nick Halley - ECPv5.16.2.1//NONSGML v1.0//EN
CALSCALE:GREGORIAN
METHOD:PUBLISH
X-WR-CALNAME:Nick Halley
X-ORIGINAL-URL:http://www.nickhalley.com
X-WR-CALDESC:Events for Nick Halley
BEGIN:VTIMEZONE
TZID:UTC
BEGIN:STANDARD
TZOFFSETFROM:+0000
TZOFFSETTO:+0000
TZNAME:UTC
DTSTART:20180101T000000
END:STANDARD
END:VTIMEZONE
BEGIN:VEVENT
DTSTART;TZID=UTC:20180704T200000
DTEND;TZID=UTC:20180704T220000
DTSTAMP:20260422T141042
CREATED:20180611T233405Z
LAST-MODIFIED:20180611T233405Z
UID:538-1530734400-1530741600@www.nickhalley.com
SUMMARY:Missa Gaia - Calgary RCCO Festival
DESCRIPTION:Nick will be drumming for this performance of the Missa Gaia (Earth Mass) in Calgary.
URL:http://www.nickhalley.com/event/missa-gaia-calgary-rcco-festival/
END:VEVENT
END:VCALENDAR