BEGIN:VCALENDAR
VERSION:2.0
PRODID:-//Nick Halley - ECPv5.16.2.1//NONSGML v1.0//EN
CALSCALE:GREGORIAN
METHOD:PUBLISH
X-WR-CALNAME:Nick Halley
X-ORIGINAL-URL:http://www.nickhalley.com
X-WR-CALDESC:Events for Nick Halley
BEGIN:VTIMEZONE
TZID:UTC
BEGIN:STANDARD
TZOFFSETFROM:+0000
TZOFFSETTO:+0000
TZNAME:UTC
DTSTART:20160101T000000
END:STANDARD
END:VTIMEZONE
BEGIN:VEVENT
DTSTART;TZID=UTC:20160612T160000
DTEND;TZID=UTC:20160612T180000
DTSTAMP:20260424T060806
CREATED:20160527T173331Z
LAST-MODIFIED:20160527T173331Z
UID:446-1465747200-1465754400@www.nickhalley.com
SUMMARY:In Performance with the Berkshire Children's Chorus
DESCRIPTION:Nick will accompany the Berkshire Children’s Chorus on both percussion and organ in this concert of varied repertoire directed by Julie Bickford.
URL:http://www.nickhalley.com/event/in-performance-with-the-berkshire-childrens-chorus/
END:VEVENT
END:VCALENDAR