BEGIN:VCALENDAR
VERSION:2.0
PRODID:-//Nick Halley - ECPv5.16.2.1//NONSGML v1.0//EN
CALSCALE:GREGORIAN
METHOD:PUBLISH
X-WR-CALNAME:Nick Halley
X-ORIGINAL-URL:http://www.nickhalley.com
X-WR-CALDESC:Events for Nick Halley
BEGIN:VTIMEZONE
TZID:UTC
BEGIN:STANDARD
TZOFFSETFROM:+0000
TZOFFSETTO:+0000
TZNAME:UTC
DTSTART:20180101T000000
END:STANDARD
END:VTIMEZONE
BEGIN:VEVENT
DTSTART;TZID=UTC:20180326T080000
DTEND;TZID=UTC:20180401T020000
DTSTAMP:20260416T021158
CREATED:20180304T045530Z
LAST-MODIFIED:20180304T045530Z
UID:519-1522051200-1522548000@www.nickhalley.com
SUMMARY:Holy Week in King's Chapel and All Saints Cathedral
DESCRIPTION:Nick will be assisting or directing Choral services in the Chapel and the Cathedral daily\, Monday March 26 – Saturday March 31. \nSpecial mention goes to Wednesday\, March 28th\, 9:00pm in All Saints Cathedral: TENEBRAE (featuring the 16th century setting of the Lamentations of Jeremiah by Thomas Tallis). \nCapella Regalis will sing the 5pm Eucharist in the King’s Chapel on Tuesday\, March 27th. \n  \n  \n 
URL:http://www.nickhalley.com/event/holy-week-in-kings-chapel-and-all-saints-cathedral/
LOCATION:King’s College Chapel\, Halifax\, NS Canada
END:VEVENT
END:VCALENDAR