BEGIN:VCALENDAR
VERSION:2.0
PRODID:-//Nick Halley - ECPv5.16.2.1//NONSGML v1.0//EN
CALSCALE:GREGORIAN
METHOD:PUBLISH
X-WR-CALNAME:Nick Halley
X-ORIGINAL-URL:http://www.nickhalley.com
X-WR-CALDESC:Events for Nick Halley
BEGIN:VTIMEZONE
TZID:UTC
BEGIN:STANDARD
TZOFFSETFROM:+0000
TZOFFSETTO:+0000
TZNAME:UTC
DTSTART:20170101T000000
END:STANDARD
END:VTIMEZONE
BEGIN:VEVENT
DTSTART;TZID=UTC:20171101T170000
DTEND;TZID=UTC:20171101T180000
DTSTAMP:20260424T055835
CREATED:20171023T161618Z
LAST-MODIFIED:20171023T161618Z
UID:477-1509555600-1509559200@www.nickhalley.com
SUMMARY:Festal Evensong with 3 Choirs
DESCRIPTION:The University of King’s College Chapel Choir AND Capella Regalis join the All Saints Cathedral Choir in a massive All Saints Day Evensong service. \nIntroit: Give Us The Wings Of Faith – E. Bullock\nResponses: – B. Rose\nCanticles: The St Paul’s Service – H. Howells\nAnthem: And I Saw A New Heaven – E. Bainton\nVoluntary: Cortège et Litanie – M. Dupré
URL:http://www.nickhalley.com/event/festal-evensong-with-3-choirs/
LOCATION:All Saints Cathedral\, Halifax\, NS Canada\, 1330 Chathedral Lane\, Halifax\, Nova Scotia\, Canada
END:VEVENT
END:VCALENDAR