BEGIN:VCALENDAR
VERSION:2.0
PRODID:-//Nick Halley - ECPv5.16.2.1//NONSGML v1.0//EN
CALSCALE:GREGORIAN
METHOD:PUBLISH
X-WR-CALNAME:Nick Halley
X-ORIGINAL-URL:http://www.nickhalley.com
X-WR-CALDESC:Events for Nick Halley
BEGIN:VTIMEZONE
TZID:UTC
BEGIN:STANDARD
TZOFFSETFROM:+0000
TZOFFSETTO:+0000
TZNAME:UTC
DTSTART:20170101T000000
END:STANDARD
END:VTIMEZONE
BEGIN:VEVENT
DTSTART;TZID=UTC:20171102T170000
DTEND;TZID=UTC:20171102T190000
DTSTAMP:20260424T044056
CREATED:20171023T161858Z
LAST-MODIFIED:20171023T161858Z
UID:478-1509642000-1509649200@www.nickhalley.com
SUMMARY:Fauré Requiem in King's Chapel
DESCRIPTION:Come to the All Soul’s Day service in the University of King’s College Chapel and you will hear Gabriel Fauré’s magnificent Requiem. The Chapel Choir\, directed by Nick and accompanied by Paul Halley.
URL:http://www.nickhalley.com/event/faure-requiem-in-kings-chapel/
LOCATION:King’s College Chapel\, Halifax\, NS Canada
END:VEVENT
END:VCALENDAR