BEGIN:VCALENDAR
VERSION:2.0
PRODID:-//Nick Halley - ECPv5.16.2.1//NONSGML v1.0//EN
CALSCALE:GREGORIAN
METHOD:PUBLISH
X-WR-CALNAME:Nick Halley
X-ORIGINAL-URL:http://www.nickhalley.com
X-WR-CALDESC:Events for Nick Halley
BEGIN:VTIMEZONE
TZID:UTC
BEGIN:STANDARD
TZOFFSETFROM:+0000
TZOFFSETTO:+0000
TZNAME:UTC
DTSTART:20170101T000000
END:STANDARD
END:VTIMEZONE
BEGIN:VEVENT
DTSTART;TZID=UTC:20171203T160000
DTEND;TZID=UTC:20171203T170000
DTSTAMP:20260420T060106
CREATED:20171023T165114Z
LAST-MODIFIED:20171023T165114Z
UID:494-1512316800-1512320400@www.nickhalley.com
SUMMARY:College Christmas at King's
DESCRIPTION:The King’s Chapel’s annual Advent Lessons and Carols service\, otherwise known as the “College Christmas”.
URL:http://www.nickhalley.com/event/college-christmas-at-kings/
LOCATION:King’s College Chapel\, Halifax\, NS Canada
END:VEVENT
END:VCALENDAR