BEGIN:VCALENDAR
VERSION:2.0
PRODID:-//Nick Halley - ECPv5.16.2.1//NONSGML v1.0//EN
CALSCALE:GREGORIAN
METHOD:PUBLISH
X-WR-CALNAME:Nick Halley
X-ORIGINAL-URL:http://www.nickhalley.com
X-WR-CALDESC:Events for Nick Halley
BEGIN:VTIMEZONE
TZID:UTC
BEGIN:STANDARD
TZOFFSETFROM:+0000
TZOFFSETTO:+0000
TZNAME:UTC
DTSTART:20170101T000000
END:STANDARD
END:VTIMEZONE
BEGIN:VEVENT
DTSTART;TZID=UTC:20171201T173000
DTEND;TZID=UTC:20171201T183000
DTSTAMP:20260423T171119
CREATED:20171023T164910Z
LAST-MODIFIED:20171023T164910Z
UID:493-1512149400-1512153000@www.nickhalley.com
SUMMARY:Capella Regalis Open House
DESCRIPTION:Know a boy who likes to sing? Interested in the work of Capella Regalis?\nCome to our winter Open House to observe part of a rehearsal\, meet the staff and learn more about the choir.
URL:http://www.nickhalley.com/event/capella-regalis-open-house/
LOCATION:All Saints Cathedral\, Halifax\, NS Canada\, 1330 Chathedral Lane\, Halifax\, Nova Scotia\, Canada
END:VEVENT
END:VCALENDAR