BEGIN:VCALENDAR
VERSION:2.0
PRODID:-//Nick Halley - ECPv5.16.2.1//NONSGML v1.0//EN
CALSCALE:GREGORIAN
METHOD:PUBLISH
X-WR-CALNAME:Nick Halley
X-ORIGINAL-URL:http://www.nickhalley.com
X-WR-CALDESC:Events for Nick Halley
BEGIN:VTIMEZONE
TZID:UTC
BEGIN:STANDARD
TZOFFSETFROM:+0000
TZOFFSETTO:+0000
TZNAME:UTC
DTSTART:20170101T000000
END:STANDARD
END:VTIMEZONE
BEGIN:VEVENT
DTSTART;TZID=UTC:20171112T160000
DTEND;TZID=UTC:20171112T170000
DTSTAMP:20260424T004445
CREATED:20171023T162701Z
LAST-MODIFIED:20171023T162701Z
UID:481-1510502400-1510506000@www.nickhalley.com
SUMMARY:Capella Regalis Investiture
DESCRIPTION:A special Remembrance Day Evensong\, during which new choristers will be formally invested into the choir. \nIntroit: Guide Me O Thou Great Jehovah\nPreces & Responses – Smith\nOffice Hymn: O Blest Creator\, Of the Light (Mode VIII)\nCanticles: Evening Service in D Minor – T.A. Walmisley\nAnthem: Greater Love — J. Ireland\nClosing Hymn: Immortal\, Invisible\, God Only Wise (St. Denio)
URL:http://www.nickhalley.com/event/capella-regalis-investiture/
LOCATION:All Saints Cathedral\, Halifax\, NS Canada\, 1330 Chathedral Lane\, Halifax\, Nova Scotia\, Canada
END:VEVENT
END:VCALENDAR