BEGIN:VCALENDAR
VERSION:2.0
PRODID:-//Nick Halley - ECPv5.16.2.1//NONSGML v1.0//EN
CALSCALE:GREGORIAN
METHOD:PUBLISH
X-WR-CALNAME:Nick Halley
X-ORIGINAL-URL:http://www.nickhalley.com
X-WR-CALDESC:Events for Nick Halley
BEGIN:VTIMEZONE
TZID:UTC
BEGIN:STANDARD
TZOFFSETFROM:+0000
TZOFFSETTO:+0000
TZNAME:UTC
DTSTART:20180101T000000
END:STANDARD
END:VTIMEZONE
BEGIN:VEVENT
DTSTART;TZID=UTC:20180304T160000
DTEND;TZID=UTC:20180304T170000
DTSTAMP:20260423T062623
CREATED:20180304T042459Z
LAST-MODIFIED:20180304T042459Z
UID:515-1520179200-1520182800@www.nickhalley.com
SUMMARY:Capella Regalis Evensong
DESCRIPTION:Nick directs the men and boys of Capella Regalis. \nWith Christ Church (Dartmouth) Girls Choir directed by Dominique Saulnier \nIntroit: Create in Me a Clean Heart – H. Willan\nPreces & Responses – T. Morley\nMagnificat & Nunc Dimittis – Stanford in B♭\nAnthem: Nolo Mortem Peccatoris – T. Morley
URL:http://www.nickhalley.com/event/capella-regalis-evensong-5/
LOCATION:All Saints Cathedral\, Halifax\, NS Canada\, 1330 Chathedral Lane\, Halifax\, Nova Scotia\, Canada
END:VEVENT
END:VCALENDAR