BEGIN:VCALENDAR
VERSION:2.0
PRODID:-//Nick Halley - ECPv5.16.2.1//NONSGML v1.0//EN
CALSCALE:GREGORIAN
METHOD:PUBLISH
X-WR-CALNAME:Nick Halley
X-ORIGINAL-URL:http://www.nickhalley.com
X-WR-CALDESC:Events for Nick Halley
BEGIN:VTIMEZONE
TZID:UTC
BEGIN:STANDARD
TZOFFSETFROM:+0000
TZOFFSETTO:+0000
TZNAME:UTC
DTSTART:20180101T000000
END:STANDARD
END:VTIMEZONE
BEGIN:VEVENT
DTSTART;TZID=UTC:20180629T190000
DTEND;TZID=UTC:20180629T203000
DTSTAMP:20260422T164744
CREATED:20180611T232918Z
LAST-MODIFIED:20180611T232918Z
UID:534-1530298800-1530304200@www.nickhalley.com
SUMMARY:Capella Regalis and Les Petits Chanteur du Mont-Royal
DESCRIPTION:Nick will be conducting and playing in this joint concert with the Les Petits Chanteur and their director Andrew Gray.
URL:http://www.nickhalley.com/event/capella-regalis-and-les-petits-chanteur-du-mont-royal/
LOCATION:All Saints Cathedral\, Halifax\, NS Canada\, 1330 Chathedral Lane\, Halifax\, Nova Scotia\, Canada
END:VEVENT
END:VCALENDAR