BEGIN:VCALENDAR
VERSION:2.0
PRODID:-//Nick Halley - ECPv5.16.2.1//NONSGML v1.0//EN
CALSCALE:GREGORIAN
METHOD:PUBLISH
X-WR-CALNAME:Nick Halley
X-ORIGINAL-URL:http://www.nickhalley.com
X-WR-CALDESC:Events for Nick Halley
BEGIN:VTIMEZONE
TZID:UTC
BEGIN:STANDARD
TZOFFSETFROM:+0000
TZOFFSETTO:+0000
TZNAME:UTC
DTSTART:20180101T000000
END:STANDARD
END:VTIMEZONE
BEGIN:VEVENT
DTSTART;TZID=UTC:20180722T193000
DTEND;TZID=UTC:20180728T213000
DTSTAMP:20260422T112335
CREATED:20180611T234002Z
LAST-MODIFIED:20180611T234002Z
UID:542-1532287800-1532813400@www.nickhalley.com
SUMMARY:Boxwood Music Festival
DESCRIPTION:Nick will be teaching and playing all week alongside a large cast of fabulous trad and baroque musicians in this annual festival in Lunenburg\, Nova Scotia.
URL:http://www.nickhalley.com/event/boxwood-music-festival-2/
END:VEVENT
END:VCALENDAR