BEGIN:VCALENDAR
VERSION:2.0
PRODID:-//Nick Halley - ECPv5.16.2.1//NONSGML v1.0//EN
CALSCALE:GREGORIAN
METHOD:PUBLISH
X-WR-CALNAME:Nick Halley
X-ORIGINAL-URL:http://www.nickhalley.com
X-WR-CALDESC:Events for Nick Halley
BEGIN:VTIMEZONE
TZID:UTC
BEGIN:STANDARD
TZOFFSETFROM:+0000
TZOFFSETTO:+0000
TZNAME:UTC
DTSTART:20160101T000000
END:STANDARD
END:VTIMEZONE
BEGIN:VEVENT
DTSTART;TZID=UTC:20160724T080000
DTEND;TZID=UTC:20160930T170000
DTSTAMP:20260424T174243
CREATED:20160527T173912Z
LAST-MODIFIED:20160527T173912Z
UID:450-1469347200-1475254800@www.nickhalley.com
SUMMARY:Boxwood Festival\, Lunenburg NS
DESCRIPTION:Nick is glad to be participating in the 21st year of this great festival.
URL:http://www.nickhalley.com/event/boxwood-festival-lunenburg-ns/
END:VEVENT
END:VCALENDAR