BEGIN:VCALENDAR
VERSION:2.0
PRODID:-//Nick Halley - ECPv5.16.2.1//NONSGML v1.0//EN
CALSCALE:GREGORIAN
METHOD:PUBLISH
X-WR-CALNAME:Nick Halley
X-ORIGINAL-URL:http://www.nickhalley.com
X-WR-CALDESC:Events for Nick Halley
BEGIN:VTIMEZONE
TZID:UTC
BEGIN:STANDARD
TZOFFSETFROM:+0000
TZOFFSETTO:+0000
TZNAME:UTC
DTSTART:20160101T000000
END:STANDARD
END:VTIMEZONE
BEGIN:VEVENT
DTSTART;TZID=UTC:20160423T190000
DTEND;TZID=UTC:20160424T180000
DTSTAMP:20260425T001315
CREATED:20160311T194711Z
LAST-MODIFIED:20160311T194711Z
UID:439-1461438000-1461520800@www.nickhalley.com
SUMMARY:Best of Opera
DESCRIPTION:The Nova Scotia Youth Orchestra with the King’s Chorus\, Capella Regalis\, and soloists.
URL:http://www.nickhalley.com/event/best-of-opera/
END:VEVENT
END:VCALENDAR