BEGIN:VCALENDAR
VERSION:2.0
PRODID:-//Nick Halley - ECPv5.16.2.1//NONSGML v1.0//EN
CALSCALE:GREGORIAN
METHOD:PUBLISH
X-WR-CALNAME:Nick Halley
X-ORIGINAL-URL:http://www.nickhalley.com
X-WR-CALDESC:Events for Nick Halley
BEGIN:VTIMEZONE
TZID:UTC
BEGIN:STANDARD
TZOFFSETFROM:+0000
TZOFFSETTO:+0000
TZNAME:UTC
DTSTART:20170101T000000
END:STANDARD
END:VTIMEZONE
BEGIN:VEVENT
DTSTART;TZID=UTC:20171128T193000
DTEND;TZID=UTC:20171128T203000
DTSTAMP:20260423T183915
CREATED:20171023T164725Z
LAST-MODIFIED:20171023T164725Z
UID:492-1511897400-1511901000@www.nickhalley.com
SUMMARY:At the CBC with Dinuk
DESCRIPTION:Nick\, Dinuk Wijeratne\, and Tom Easley will be in the CBC studio\, filming in front of a live audience.
URL:http://www.nickhalley.com/event/at-the-cbc-with-dinuk/
END:VEVENT
END:VCALENDAR