BEGIN:VCALENDAR
VERSION:2.0
PRODID:-//Nick Halley - ECPv5.16.2.1//NONSGML v1.0//EN
CALSCALE:GREGORIAN
METHOD:PUBLISH
X-WR-CALNAME:Nick Halley
X-ORIGINAL-URL:http://www.nickhalley.com
X-WR-CALDESC:Events for Nick Halley
BEGIN:VTIMEZONE
TZID:UTC
BEGIN:STANDARD
TZOFFSETFROM:+0000
TZOFFSETTO:+0000
TZNAME:UTC
DTSTART:20150101T000000
END:STANDARD
END:VTIMEZONE
BEGIN:VEVENT
DTSTART;TZID=UTC:20151212T193000
DTEND;TZID=UTC:20151212T210000
DTSTAMP:20260425T163640
CREATED:20151106T194504Z
LAST-MODIFIED:20151106T194504Z
UID:379-1449948600-1449954000@www.nickhalley.com
SUMMARY:A King's Christmas\, Lunenburg
DESCRIPTION:Described by the Chronicle Herald as “annual magic”\, A King’s Christmas is back for its eighth year.  This feast of seasonal song and story is performed in a tour of Nova Scotian communities each year and has become an annual tradition for many.  Guest narrators in past years have included writer and broadcaster Eleanor Wachtel\, writer Alexander MacLeod\, theatre director Ken Schwartz\, and actor and writer Shelley Thompson. The music features carols from the mediaeval to the modern\, and both music and readings highlight works from the Maritimes\, often with original material written for the occasion by Halley or the narrator. This year the choir will have a guest narrator from New York City\, R. Bruce Connelly.
URL:http://www.nickhalley.com/event/a-kings-christmas-lunenburg/
LOCATION:St. John’s Church\, Lunenburg\, NS Canada
END:VEVENT
END:VCALENDAR